BEGIN:VCALENDAR
VERSION:2.0
PRODID:-//hacksw/handcal//NONSGML v1.0//EN
CALSCALE:GREGORIAN
BEGIN:VEVENT
LOCATION:Qdoba (multiple locations)
DESCRIPTION:https://triangleonthecheap.com/event/qdoba-chips-queso-full-moon-6/
DTSTART;TZID=America/New_York:20260729T000000
DTEND;TZID=America/New_York:20260729T000000
SUMMARY:QDOBA Offers Free Chips & Queso for Every Full Moon
URL;VALUE=URI:https://triangleonthecheap.com/event/qdoba-chips-queso-full-moon-6/
DTSTAMP:20260424T165148
UID:69ebd7e4bcb81
END:VEVENT
END:VCALENDAR