BEGIN:VCALENDAR
VERSION:2.0
PRODID:-//hacksw/handcal//NONSGML v1.0//EN
CALSCALE:GREGORIAN
BEGIN:VEVENT
LOCATION:The Fall Line\, Zebulon\, 114 North Arendell Avenue\, Zebulon\, NC
DESCRIPTION:https://triangleonthecheap.com/event/the-fall-line-zebulon-3/
DTSTART;TZID=America/New_York:20260517T140000
DTEND;TZID=America/New_York:20260517T235900
SUMMARY:Live Music: Jenkins & the Rabbit
URL;VALUE=URI:https://triangleonthecheap.com/event/the-fall-line-zebulon-3/
DTSTAMP:20260421T135857
UID:69e7bae15ca0f
END:VEVENT
END:VCALENDAR