BEGIN:VCALENDAR
VERSION:2.0
PRODID:-//hacksw/handcal//NONSGML v1.0//EN
CALSCALE:GREGORIAN
BEGIN:VEVENT
LOCATION:Millbrook United Methodist Church\, Raleigh\, 1712 E Millbrook Road\, Raleigh\, NC
DESCRIPTION:https://triangleonthecheap.com/event/mums-kitchen-4/
DTSTART;TZID=America/New_York:20261115T123000
DTEND;TZID=America/New_York:20261115T140000
SUMMARY:MUM's Kitchen: Free Meal\, Bingo and more
URL;VALUE=URI:https://triangleonthecheap.com/event/mums-kitchen-4/
DTSTAMP:20260421T061107
UID:69e74d3b34ed2
END:VEVENT
END:VCALENDAR