BEGIN:VCALENDAR
VERSION:2.0
PRODID:-//hacksw/handcal//NONSGML v1.0//EN
CALSCALE:GREGORIAN
BEGIN:VEVENT
LOCATION:Various locations
DESCRIPTION:https://triangleonthecheap.com/event/kids-diy-workshops-7/
DTSTART;TZID=America/New_York:20260613T100000
DTEND;TZID=America/New_York:20260613T130000
SUMMARY:Lowe's DIY-U Kids' Workshop: Trophy Cup
URL;VALUE=URI:https://triangleonthecheap.com/event/kids-diy-workshops-7/
DTSTAMP:20260420T085854
UID:69e6230e3ceaf
END:VEVENT
END:VCALENDAR