BEGIN:VCALENDAR
VERSION:2.0
PRODID:-//hacksw/handcal//NONSGML v1.0//EN
CALSCALE:GREGORIAN
BEGIN:VEVENT
LOCATION:The Home Depot\, multiple locations
DESCRIPTION:https://triangleonthecheap.com/event/kids-diy-workshops-3/
DTSTART;TZID=America/New_York:20260606T090000
DTEND;TZID=America/New_York:20260606T120000
SUMMARY:Home Depot Kids' Workshop: Goalie Game
URL;VALUE=URI:https://triangleonthecheap.com/event/kids-diy-workshops-3/
DTSTAMP:20260420T085928
UID:69e6233048d35
END:VEVENT
END:VCALENDAR