BEGIN:VCALENDAR
VERSION:2.0
PRODID:-//hacksw/handcal//NONSGML v1.0//EN
CALSCALE:GREGORIAN
BEGIN:VEVENT
LOCATION:The Home Depot\, multiple locations
DESCRIPTION:https://triangleonthecheap.com/event/kids-diy-workshops-2/
DTSTART;TZID=America/New_York:20260502T090000
DTEND;TZID=America/New_York:20260502T120000
SUMMARY:Home Depot Kids' Workshop: Keepsake Box
URL;VALUE=URI:https://triangleonthecheap.com/event/kids-diy-workshops-2/
DTSTAMP:20260420T085906
UID:69e6231a6a47e
END:VEVENT
END:VCALENDAR