BEGIN:VCALENDAR
VERSION:2.0
PRODID:-//hacksw/handcal//NONSGML v1.0//EN
CALSCALE:GREGORIAN
BEGIN:VEVENT
LOCATION:West 94th Street Pub\, Durham\, 4711 Hope Valley Road\, Durham\, NC
DESCRIPTION:https://triangleonthecheap.com/event/west-94th-street-pub/
DTSTART;TZID=America/New_York:20260516T200000
DTEND;TZID=America/New_York:20260516T235900
SUMMARY:Pub's 80s Prom "Forever Young"
URL;VALUE=URI:https://triangleonthecheap.com/event/west-94th-street-pub/
DTSTAMP:20260421T055404
UID:69e7493c08f4f
END:VEVENT
END:VCALENDAR