BEGIN:VCALENDAR
VERSION:2.0
PRODID:-//hacksw/handcal//NONSGML v1.0//EN
CALSCALE:GREGORIAN
BEGIN:VEVENT
LOCATION:Weaver Street Market Carrboro\, 101 East Weaver Street\, Carrboro\, NC
DESCRIPTION:https://triangleonthecheap.com/event/weaver-street-market-black-history-month/
DTSTART;TZID=America/New_York:20260517T130000
DTEND;TZID=America/New_York:20260517T153000
SUMMARY:Living History From the Rock Wall: Black History Month event at Weaver Street Market Carrboro
URL;VALUE=URI:https://triangleonthecheap.com/event/weaver-street-market-black-history-month/
DTSTAMP:20260425T145004
UID:69ed0cdc77fcc
END:VEVENT
END:VCALENDAR