BEGIN:VCALENDAR
VERSION:2.0
PRODID:-//hacksw/handcal//NONSGML v1.0//EN
CALSCALE:GREGORIAN
BEGIN:VEVENT
LOCATION:Ment Beverage Co.\, Durham\, 312 Blackwell Street\, Durham\, NC
DESCRIPTION:https://triangleonthecheap.com/event/ment-beverage-co-3/
DTSTART;TZID=America/New_York:20260515T180000
DTEND;TZID=America/New_York:20260515T200000
SUMMARY:Third Friday: Martin Molloy Collage Art Opening
URL;VALUE=URI:https://triangleonthecheap.com/event/ment-beverage-co-3/
DTSTAMP:20260425T173926
UID:69ed348e8e4c8
END:VEVENT
END:VCALENDAR