BEGIN:VCALENDAR
VERSION:2.0
PRODID:-//hacksw/handcal//NONSGML v1.0//EN
CALSCALE:GREGORIAN
BEGIN:VEVENT
LOCATION:St. James United Methodist Church\, Raleigh\, 3808 St. James Church Road\, Raleigh\, NC
DESCRIPTION:https://triangleonthecheap.com/event/capital-squares/
DTSTART;TZID=America/New_York:20260512T190000
DTEND;TZID=America/New_York:20260512T210000
SUMMARY:Square Dance Party
URL;VALUE=URI:https://triangleonthecheap.com/event/capital-squares/
DTSTAMP:20260420T163151
UID:69e68d3716a0d
END:VEVENT
END:VCALENDAR