BEGIN:VCALENDAR
VERSION:2.0
PRODID:-//hacksw/handcal//NONSGML v1.0//EN
CALSCALE:GREGORIAN
BEGIN:VEVENT
LOCATION:Atomic Clock Brewing Co.\, Durham\, 501 Washington Street\, Durham\, NC
DESCRIPTION:https://triangleonthecheap.com/event/chamber-orchestra-triangle-7/
DTSTART;TZID=America/New_York:20260428T193000
DTEND;TZID=America/New_York:20260428T235900
SUMMARY:BEERthoven: Chamber Orchestra of the Triangle with guest artists (pay what you can)
URL;VALUE=URI:https://triangleonthecheap.com/event/chamber-orchestra-triangle-7/
DTSTAMP:20260421T142528
UID:69e7c118cf552
END:VEVENT
END:VCALENDAR