BEGIN:VCALENDAR
VERSION:2.0
PRODID:-//hacksw/handcal//NONSGML v1.0//EN
CALSCALE:GREGORIAN
BEGIN:VEVENT
LOCATION:
DESCRIPTION:https://triangleonthecheap.com/event/teen-science-cafe-morehead-planetarium-7/
DTSTART;TZID=America/New_York:20260421T071900
DTEND;TZID=America/New_York:20260421T071900
SUMMARY:Teen Science Cafe at Morehead Planetarium and Science Center
URL;VALUE=URI:https://triangleonthecheap.com/event/teen-science-cafe-morehead-planetarium-7/
DTSTAMP:20260421T071920
UID:69e75d38e91db
END:VEVENT
END:VCALENDAR