BEGIN:VCALENDAR
VERSION:2.0
PRODID:-//hacksw/handcal//NONSGML v1.0//EN
CALSCALE:GREGORIAN
BEGIN:VEVENT
LOCATION:Downtown Cary Park\, 321 South Academy Street\, Cary\, NC
DESCRIPTION:https://triangleonthecheap.com/event/live-at-lunch-music-downtown-cary-park-3/
DTSTART;TZID=America/New_York:20260507T113000
DTEND;TZID=America/New_York:20260507T133000
SUMMARY:Live at Lunch: Vibexotica
URL;VALUE=URI:https://triangleonthecheap.com/event/live-at-lunch-music-downtown-cary-park-3/
DTSTAMP:20260423T085200
UID:69ea15f06663f
END:VEVENT
END:VCALENDAR