BEGIN:VCALENDAR
VERSION:2.0
PRODID:-//hacksw/handcal//NONSGML v1.0//EN
CALSCALE:GREGORIAN
BEGIN:VEVENT
LOCATION:Downtown Cary Park\, 321 South Academy Street\, Cary\, NC
DESCRIPTION:https://triangleonthecheap.com/event/live-at-lunch-music-downtown-cary-park-2/
DTSTART;TZID=America/New_York:20260423T113000
DTEND;TZID=America/New_York:20260423T133000
SUMMARY:Live at Lunch: Ed Kincade
URL;VALUE=URI:https://triangleonthecheap.com/event/live-at-lunch-music-downtown-cary-park-2/
DTSTAMP:20260423T085809
UID:69ea1761aac2b
END:VEVENT
END:VCALENDAR