BEGIN:VCALENDAR
VERSION:2.0
PRODID:-//hacksw/handcal//NONSGML v1.0//EN
CALSCALE:GREGORIAN
BEGIN:VEVENT
LOCATION:City Plaza\, Raleigh\, 400 Fayetteville St\, Raleigh\, NC
DESCRIPTION:https://triangleonthecheap.com/event/nc-sugar-rush/
DTSTART;TZID=America/New_York:20260524T120000
DTEND;TZID=America/New_York:20260524T180000
SUMMARY:NC Sugar Rush Dessert Market Food Truck Rodeo
URL;VALUE=URI:https://triangleonthecheap.com/event/nc-sugar-rush/
DTSTAMP:20260421T133627
UID:69e7b59b462da
END:VEVENT
END:VCALENDAR