BEGIN:VCALENDAR
VERSION:2.0
PRODID:-//hacksw/handcal//NONSGML v1.0//EN
CALSCALE:GREGORIAN
BEGIN:VEVENT
LOCATION:Johnston Mill Nature Preserve\, Chapel Hill (secondary entrance)\, 6001 Turkey Farm Road\, Chapel Hill\, NC
DESCRIPTION:https://triangleonthecheap.com/event/triangle-land-conservancy/
DTSTART;TZID=America/New_York:20260502T100000
DTEND;TZID=America/New_York:20260502T120000
SUMMARY:Get Wild: Creek Critters with Triangle Land Conservancy
URL;VALUE=URI:https://triangleonthecheap.com/event/triangle-land-conservancy/
DTSTAMP:20260423T233236
UID:69eae4543ac5d
END:VEVENT
END:VCALENDAR