BEGIN:VCALENDAR
VERSION:2.0
PRODID:-//hacksw/handcal//NONSGML v1.0//EN
CALSCALE:GREGORIAN
BEGIN:VEVENT
LOCATION:Harvey Hill at Dix Park\, 693 Palmer Drive\, Raleigh\, NC
DESCRIPTION:https://triangleonthecheap.com/event/bike-month-raleigh-2/
DTSTART;TZID=America/New_York:20260501T163000
DTEND;TZID=America/New_York:20260501T183000
SUMMARY:Bike Bonanza
URL;VALUE=URI:https://triangleonthecheap.com/event/bike-month-raleigh-2/
DTSTAMP:20260422T170854
UID:69e938e65d90a
END:VEVENT
END:VCALENDAR