BEGIN:VCALENDAR
VERSION:2.0
PRODID:-//hacksw/handcal//NONSGML v1.0//EN
CALSCALE:GREGORIAN
BEGIN:VEVENT
LOCATION:John Chavis Memorial Park (Raleigh)\, 505 Martin Luther King Jr Blvd\, Raleigh\, NC
DESCRIPTION:https://triangleonthecheap.com/event/bike-month-raleigh/
DTSTART;TZID=America/New_York:20260506T160000
DTEND;TZID=America/New_York:20260506T180000
SUMMARY:Oaks and Spokes Kids Bike Rodeo
URL;VALUE=URI:https://triangleonthecheap.com/event/bike-month-raleigh/
DTSTAMP:20260422T184258
UID:69e94ef2c081e
END:VEVENT
END:VCALENDAR