BEGIN:VCALENDAR
VERSION:2.0
PRODID:-//hacksw/handcal//NONSGML v1.0//EN
CALSCALE:GREGORIAN
BEGIN:VEVENT
LOCATION:Indian Creek Park in Morrisville\, 101 Town Hall Drive\, Morrisville\, NC
DESCRIPTION:https://triangleonthecheap.com/event/music-park-morrisville-5/
DTSTART;TZID=America/New_York:20260619T180000
DTEND;TZID=America/New_York:20260619T210000
SUMMARY:Morrisville's Music in the Park: Sahara Reggae Band (Juneteenth celebration)
URL;VALUE=URI:https://triangleonthecheap.com/event/music-park-morrisville-5/
DTSTAMP:20260421T114334
UID:69e79b26292a2
END:VEVENT
END:VCALENDAR