BEGIN:VCALENDAR
VERSION:2.0
PRODID:-//hacksw/handcal//NONSGML v1.0//EN
CALSCALE:GREGORIAN
BEGIN:VEVENT
LOCATION:Downtown Wendell\, Main Street and Campen Street\, Wendell\, NC
DESCRIPTION:https://triangleonthecheap.com/event/meet-on-main-wendell-3/
DTSTART;TZID=America/New_York:20260619T170000
DTEND;TZID=America/New_York:20260619T220000
SUMMARY:Meet on Main -- outdoor concert series: Crush
URL;VALUE=URI:https://triangleonthecheap.com/event/meet-on-main-wendell-3/
DTSTAMP:20260424T001952
UID:69eaef68b3f90
END:VEVENT
END:VCALENDAR