BEGIN:VCALENDAR
VERSION:2.0
PRODID:-//hacksw/handcal//NONSGML v1.0//EN
CALSCALE:GREGORIAN
BEGIN:VEVENT
LOCATION:North Carolina Museum of Art\, Raleigh\, 2110 Blue Ridge Rd\,\, Raleigh\, NC
DESCRIPTION:https://triangleonthecheap.com/event/carolina-shakespeare/
DTSTART;TZID=America/New_York:20260423T180000
DTEND;TZID=America/New_York:20260423T203000
SUMMARY:Shakespeare in the Park -- a free evening of performances at North Carolina Museum on Apr. 23
URL;VALUE=URI:https://triangleonthecheap.com/event/carolina-shakespeare/
DTSTAMP:20260422T124953
UID:69e8fc31a41bb
END:VEVENT
END:VCALENDAR