BEGIN:VCALENDAR
VERSION:2.0
PRODID:-//hacksw/handcal//NONSGML v1.0//EN
CALSCALE:GREGORIAN
BEGIN:VEVENT
LOCATION:Marbles Kids Museum\, Raleigh\, 201 E Hargett St\,\, Raleigh\, NC
DESCRIPTION:https://triangleonthecheap.com/event/family-night-marbles-kids-museum-3/
DTSTART;TZID=America/New_York:20260513T170000
DTEND;TZID=America/New_York:20260513T193000
SUMMARY:Free Sensory Friendly Playtime and Movie at Marbles Kids Museum
URL;VALUE=URI:https://triangleonthecheap.com/event/family-night-marbles-kids-museum-3/
DTSTAMP:20260421T114140
UID:69e79ab492979
END:VEVENT
END:VCALENDAR