BEGIN:VCALENDAR
VERSION:2.0
PRODID:-//hacksw/handcal//NONSGML v1.0//EN
CALSCALE:GREGORIAN
BEGIN:VEVENT
LOCATION:
DESCRIPTION:https://triangleonthecheap.com/event/st-patricks-day-party-bull-mccabes-2/
DTSTART;TZID=America/New_York:20260421T072300
DTEND;TZID=America/New_York:20260421T072300
SUMMARY:St. Patrick's Day Party at Bull McCabe's
URL;VALUE=URI:https://triangleonthecheap.com/event/st-patricks-day-party-bull-mccabes-2/
DTSTAMP:20260421T072338
UID:69e75e3a2e697
END:VEVENT
END:VCALENDAR