BEGIN:VCALENDAR
VERSION:2.0
PRODID:-//hacksw/handcal//NONSGML v1.0//EN
CALSCALE:GREGORIAN
BEGIN:VEVENT
LOCATION:Durham Central Park\, 501 Foster St\, Durham\, NC
DESCRIPTION:https://triangleonthecheap.com/event/taste-of-soul-nc-ultimate-cookout-experience/
DTSTART;TZID=America/New_York:20260523T150000
DTEND;TZID=America/New_York:20260523T200000
SUMMARY:Taste of Soul NC
URL;VALUE=URI:https://triangleonthecheap.com/event/taste-of-soul-nc-ultimate-cookout-experience/
DTSTAMP:20260421T133928
UID:69e7b6509827b
END:VEVENT
END:VCALENDAR