BEGIN:VCALENDAR
VERSION:2.0
PRODID:-//hacksw/handcal//NONSGML v1.0//EN
CALSCALE:GREGORIAN
BEGIN:VEVENT
LOCATION:Crabtree Valley Mall\, 4325 Glenwood Ave\, Raleigh\, NC
DESCRIPTION:https://triangleonthecheap.com/event/lego-store-builds/
DTSTART;TZID=America/New_York:20260508T120000
DTEND;TZID=America/New_York:20260508T140000
SUMMARY:LEGO Store: Build a LEGO Star Wars Lightsaber for free and take it home
URL;VALUE=URI:https://triangleonthecheap.com/event/lego-store-builds/
DTSTAMP:20260420T104522
UID:69e63c02c7fe5
END:VEVENT
END:VCALENDAR