BEGIN:VCALENDAR
VERSION:2.0
PRODID:-//hacksw/handcal//NONSGML v1.0//EN
CALSCALE:GREGORIAN
BEGIN:VEVENT
LOCATION:Broughton Magnet High School\, Raleigh\, 723 St Marys Street\, Raleigh\, NC
DESCRIPTION:https://triangleonthecheap.com/event/raleigh-concert-band/
DTSTART;TZID=America/New_York:20260502T190000
DTEND;TZID=America/New_York:20260502T235900
SUMMARY:Raleigh Concert Band'ss Spring Concert -- Movement!
URL;VALUE=URI:https://triangleonthecheap.com/event/raleigh-concert-band/
DTSTAMP:20260422T062204
UID:69e8a14c6c695
END:VEVENT
END:VCALENDAR