BEGIN:VCALENDAR
VERSION:2.0
PRODID:-//hacksw/handcal//NONSGML v1.0//EN
CALSCALE:GREGORIAN
BEGIN:VEVENT
LOCATION:Holly Springs Cultural Center\, 300 W Ballentine St\, Holly Springs\, NC
DESCRIPTION:https://triangleonthecheap.com/event/summer-at-the-springs-4/
DTSTART;TZID=America/New_York:20260821T180000
DTEND;TZID=America/New_York:20260821T210000
SUMMARY:Summer at The Springs: All Y'all Country All-Stars
URL;VALUE=URI:https://triangleonthecheap.com/event/summer-at-the-springs-4/
DTSTAMP:20260420T103624
UID:69e639e8a4570
END:VEVENT
END:VCALENDAR