BEGIN:VCALENDAR
VERSION:2.0
PRODID:-//hacksw/handcal//NONSGML v1.0//EN
CALSCALE:GREGORIAN
BEGIN:VEVENT
LOCATION:Holly Springs Cultural Center\, 300 W Ballentine St\, Holly Springs\, NC
DESCRIPTION:https://triangleonthecheap.com/event/summer-at-the-springs-3/
DTSTART;TZID=America/New_York:20260717T180000
DTEND;TZID=America/New_York:20260717T210000
SUMMARY:Summer at The Springs: Dark Echoes (Pink Floyd Experience)
URL;VALUE=URI:https://triangleonthecheap.com/event/summer-at-the-springs-3/
DTSTAMP:20260420T120635
UID:69e64f0b10a04
END:VEVENT
END:VCALENDAR