BEGIN:VCALENDAR
VERSION:2.0
PRODID:-//hacksw/handcal//NONSGML v1.0//EN
CALSCALE:GREGORIAN
BEGIN:VEVENT
LOCATION:Holly Springs Cultural Center\, 300 W Ballentine St\, Holly Springs\, NC
DESCRIPTION:https://triangleonthecheap.com/event/summer-at-the-springs-2/
DTSTART;TZID=America/New_York:20260619T180000
DTEND;TZID=America/New_York:20260619T210000
SUMMARY:Summer at The Springs: Joe Hero Band (Foo Fighters Tribute)
URL;VALUE=URI:https://triangleonthecheap.com/event/summer-at-the-springs-2/
DTSTAMP:20260420T103305
UID:69e6392168355
END:VEVENT
END:VCALENDAR