BEGIN:VCALENDAR
VERSION:2.0
PRODID:-//hacksw/handcal//NONSGML v1.0//EN
CALSCALE:GREGORIAN
BEGIN:VEVENT
LOCATION:Holly Springs Cultural Center\, 300 W Ballentine St\, Holly Springs\, NC
DESCRIPTION:https://triangleonthecheap.com/event/summer-at-the-springs/
DTSTART;TZID=America/New_York:20260522T180000
DTEND;TZID=America/New_York:20260522T210000
SUMMARY:Summer at The Springs: The Phoebes
URL;VALUE=URI:https://triangleonthecheap.com/event/summer-at-the-springs/
DTSTAMP:20260420T120656
UID:69e64f205b279
END:VEVENT
END:VCALENDAR