BEGIN:VCALENDAR
VERSION:2.0
PRODID:-//hacksw/handcal//NONSGML v1.0//EN
CALSCALE:GREGORIAN
BEGIN:VEVENT
LOCATION:
DESCRIPTION:https://triangleonthecheap.com/event/raleigh-roasts/
DTSTART;TZID=America/New_York:20260419T090300
DTEND;TZID=America/New_York:20260419T090300
SUMMARY:Raleigh Roasts
URL;VALUE=URI:https://triangleonthecheap.com/event/raleigh-roasts/
DTSTAMP:20260419T090340
UID:69e4d2ac47311
END:VEVENT
END:VCALENDAR