BEGIN:VCALENDAR
VERSION:2.0
PRODID:-//hacksw/handcal//NONSGML v1.0//EN
CALSCALE:GREGORIAN
BEGIN:VEVENT
LOCATION:Indian Creek Park in Morrisville\, 101 Town Hall Drive\, Morrisville\, NC
DESCRIPTION:https://triangleonthecheap.com/event/music-park-morrisville-4/
DTSTART;TZID=America/New_York:20260904T183000
DTEND;TZID=America/New_York:20261129T190100
SUMMARY:Morrisville's Music in the Park: Echo Blvd
URL;VALUE=URI:https://triangleonthecheap.com/event/music-park-morrisville-4/
DTSTAMP:20260421T114508
UID:69e79b841505f
END:VEVENT
END:VCALENDAR