BEGIN:VCALENDAR
VERSION:2.0
PRODID:-//hacksw/handcal//NONSGML v1.0//EN
CALSCALE:GREGORIAN
BEGIN:VEVENT
LOCATION:Indian Creek Park in Morrisville\, 101 Town Hall Drive\, Morrisville\, NC
DESCRIPTION:https://triangleonthecheap.com/event/music-park-morrisville-3/
DTSTART;TZID=America/New_York:20260807T183000
DTEND;TZID=America/New_York:20260807T203000
SUMMARY:Morrisville's Music in the Park: The Blenders
URL;VALUE=URI:https://triangleonthecheap.com/event/music-park-morrisville-3/
DTSTAMP:20260421T114443
UID:69e79b6b6d1b6
END:VEVENT
END:VCALENDAR