BEGIN:VCALENDAR
VERSION:2.0
PRODID:-//hacksw/handcal//NONSGML v1.0//EN
CALSCALE:GREGORIAN
BEGIN:VEVENT
LOCATION:Indian Creek Park in Morrisville\, 101 Town Hall Drive\, Morrisville\, NC
DESCRIPTION:https://triangleonthecheap.com/event/music-park-morrisville-2/
DTSTART;TZID=America/New_York:20260605T180000
DTEND;TZID=America/New_York:20260605T210000
SUMMARY:Morrisville's Music in the Park: 22 Strings (Pride Celebration)
URL;VALUE=URI:https://triangleonthecheap.com/event/music-park-morrisville-2/
DTSTAMP:20260421T114318
UID:69e79b16b862d
END:VEVENT
END:VCALENDAR