BEGIN:VCALENDAR
VERSION:2.0
PRODID:-//hacksw/handcal//NONSGML v1.0//EN
CALSCALE:GREGORIAN
BEGIN:VEVENT
LOCATION:Indian Creek Park in Morrisville\, 101 Town Hall Drive\, Morrisville\, NC
DESCRIPTION:https://triangleonthecheap.com/event/music-park-morrisville/
DTSTART;TZID=America/New_York:20260501T183000
DTEND;TZID=America/New_York:20260501T203000
SUMMARY:Morrisville's Music in the Park: Story Charlamagne
URL;VALUE=URI:https://triangleonthecheap.com/event/music-park-morrisville/
DTSTAMP:20260421T114415
UID:69e79b4f102b7
END:VEVENT
END:VCALENDAR