BEGIN:VCALENDAR
VERSION:2.0
PRODID:-//hacksw/handcal//NONSGML v1.0//EN
CALSCALE:GREGORIAN
BEGIN:VEVENT
LOCATION:Carrboro Town Commons\, 301 Main Street\, Carrboro\, NC
DESCRIPTION:https://triangleonthecheap.com/event/freight-train-blues-concert-series-carrboro-5/
DTSTART;TZID=America/New_York:20260612T183000
DTEND;TZID=America/New_York:20260612T203000
SUMMARY:Freight Train Blues: Orquestra K’Che
URL;VALUE=URI:https://triangleonthecheap.com/event/freight-train-blues-concert-series-carrboro-5/
DTSTAMP:20260420T001926
UID:69e5a94ed8aa7
END:VEVENT
END:VCALENDAR