BEGIN:VCALENDAR
VERSION:2.0
PRODID:-//hacksw/handcal//NONSGML v1.0//EN
CALSCALE:GREGORIAN
BEGIN:VEVENT
LOCATION:Carrboro Town Commons\, 301 Main Street\, Carrboro\, NC
DESCRIPTION:https://triangleonthecheap.com/event/freight-train-blues-concert-series-carrboro-4/
DTSTART;TZID=America/New_York:20260605T183000
DTEND;TZID=America/New_York:20260605T203000
SUMMARY:Freight Train Blues: Dedicated Men of Zion and Faith & Harmony
URL;VALUE=URI:https://triangleonthecheap.com/event/freight-train-blues-concert-series-carrboro-4/
DTSTAMP:20260420T002028
UID:69e5a98c4032f
END:VEVENT
END:VCALENDAR