BEGIN:VCALENDAR
VERSION:2.0
PRODID:-//hacksw/handcal//NONSGML v1.0//EN
CALSCALE:GREGORIAN
BEGIN:VEVENT
LOCATION:Carrboro Town Commons\, 301 Main Street\, Carrboro\, NC
DESCRIPTION:https://triangleonthecheap.com/event/freight-train-blues-concert-series-carrboro-3/
DTSTART;TZID=America/New_York:20260529T183000
DTEND;TZID=America/New_York:20260529T203000
SUMMARY:Freight Train Blues: David Childers and Lightnin’ Wells
URL;VALUE=URI:https://triangleonthecheap.com/event/freight-train-blues-concert-series-carrboro-3/
DTSTAMP:20260420T002130
UID:69e5a9caad377
END:VEVENT
END:VCALENDAR