BEGIN:VCALENDAR
VERSION:2.0
PRODID:-//hacksw/handcal//NONSGML v1.0//EN
CALSCALE:GREGORIAN
BEGIN:VEVENT
LOCATION:Carrboro Town Commons\, 301 Main Street\, Carrboro\, NC
DESCRIPTION:https://triangleonthecheap.com/event/freight-train-blues-concert-series-carrboro-2/
DTSTART;TZID=America/New_York:20260522T183000
DTEND;TZID=America/New_York:20260522T203000
SUMMARY:Freight Train Blues: Da Funky Leroy Harper Jr. All Starz & Lynn Grissett
URL;VALUE=URI:https://triangleonthecheap.com/event/freight-train-blues-concert-series-carrboro-2/
DTSTAMP:20260420T001825
UID:69e5a911814df
END:VEVENT
END:VCALENDAR