BEGIN:VCALENDAR
VERSION:2.0
PRODID:-//hacksw/handcal//NONSGML v1.0//EN
CALSCALE:GREGORIAN
BEGIN:VEVENT
LOCATION:Carrboro Town Commons\, 301 Main Street\, Carrboro\, NC
DESCRIPTION:https://triangleonthecheap.com/event/freight-train-blues-concert-series-carrboro/
DTSTART;TZID=America/New_York:20260515T183000
DTEND;TZID=America/New_York:20260515T203000
SUMMARY:Freight Train Blues: Kelley Breiding\, Gail Ceasar and Brenda Evans
URL;VALUE=URI:https://triangleonthecheap.com/event/freight-train-blues-concert-series-carrboro/
DTSTAMP:20260420T001957
UID:69e5a96d8f8f4
END:VEVENT
END:VCALENDAR