BEGIN:VCALENDAR
VERSION:2.0
PRODID:-//hacksw/handcal//NONSGML v1.0//EN
CALSCALE:GREGORIAN
BEGIN:VEVENT
LOCATION:
DESCRIPTION:https://triangleonthecheap.com/event/st-patricks-day-party-bull-mccabes/
DTSTART;TZID=America/New_York:20260421T054000
DTEND;TZID=America/New_York:20260421T054000
SUMMARY:St. Patrick's Day Party at Bull McCabe's
URL;VALUE=URI:https://triangleonthecheap.com/event/st-patricks-day-party-bull-mccabes/
DTSTAMP:20260421T054038
UID:69e746166e84d
END:VEVENT
END:VCALENDAR