BEGIN:VCALENDAR
VERSION:2.0
PRODID:-//hacksw/handcal//NONSGML v1.0//EN
CALSCALE:GREGORIAN
BEGIN:VEVENT
LOCATION:White Street in Wake Forest\, White Street\, Wake Forest\, NC
DESCRIPTION:https://triangleonthecheap.com/event/free-outdoor-music-series-wake-forest-friday-night-white-5/
DTSTART;TZID=America/New_York:20260814T180000
DTEND;TZID=America/New_York:20260814T210000
SUMMARY:Friday Night on White: The Amazing Lounge Lizards
URL;VALUE=URI:https://triangleonthecheap.com/event/free-outdoor-music-series-wake-forest-friday-night-white-5/
DTSTAMP:20260425T113908
UID:69ece01c02fc7
END:VEVENT
END:VCALENDAR