BEGIN:VCALENDAR
VERSION:2.0
PRODID:-//hacksw/handcal//NONSGML v1.0//EN
CALSCALE:GREGORIAN
BEGIN:VEVENT
LOCATION:White Street in Wake Forest\, White Street\, Wake Forest\, NC
DESCRIPTION:https://triangleonthecheap.com/event/free-outdoor-music-series-wake-forest-friday-night-white-2/
DTSTART;TZID=America/New_York:20260508T180000
DTEND;TZID=America/New_York:20260508T210000
SUMMARY:Friday Night on White: Sleeping Booty Band
URL;VALUE=URI:https://triangleonthecheap.com/event/free-outdoor-music-series-wake-forest-friday-night-white-2/
DTSTAMP:20260425T150801
UID:69ed111112ca3
END:VEVENT
END:VCALENDAR