BEGIN:VCALENDAR
VERSION:2.0
PRODID:-//hacksw/handcal//NONSGML v1.0//EN
CALSCALE:GREGORIAN
BEGIN:VEVENT
LOCATION:Hargraves Community Center\, Chapel Hill\, 216 N Roberson St\, Chapel Hill\, NC
DESCRIPTION:https://triangleonthecheap.com/event/chapel-hill-carrboro-juneteenth/
DTSTART;TZID=America/New_York:20260619T160000
DTEND;TZID=America/New_York:20260619T200000
SUMMARY:Chapel Hill-Carrboro Juneteenth Celebration
URL;VALUE=URI:https://triangleonthecheap.com/event/chapel-hill-carrboro-juneteenth/
DTSTAMP:20260423T215810
UID:69eace3278c2c
END:VEVENT
END:VCALENDAR