BEGIN:VCALENDAR
VERSION:2.0
PRODID:-//hacksw/handcal//NONSGML v1.0//EN
CALSCALE:GREGORIAN
BEGIN:VEVENT
LOCATION:Downtown Siler City\, Chatham Street and Second Street\, Siler City\, NC
DESCRIPTION:https://triangleonthecheap.com/event/spring-chicken-festival-siler-city/
DTSTART;TZID=America/New_York:20260502T100000
DTEND;TZID=America/New_York:20260502T160000
SUMMARY:8th Annual Spring Chicken Festival
URL;VALUE=URI:https://triangleonthecheap.com/event/spring-chicken-festival-siler-city/
DTSTAMP:20260421T232440
UID:69e83f78f290e
END:VEVENT
END:VCALENDAR