BEGIN:VCALENDAR
VERSION:2.0
PRODID:-//hacksw/handcal//NONSGML v1.0//EN
CALSCALE:GREGORIAN
BEGIN:VEVENT
LOCATION:Old Cary Library Site\, 310 S. Academy Street\, Cary\, NC
DESCRIPTION:https://triangleonthecheap.com/event/one-tribe/
DTSTART;TZID=America/New_York:20260424T190000
DTEND;TZID=America/New_York:20260424T203000
SUMMARY:One Tribe Final Friday drum circle with fire spinning by Caroleena & Friends
URL;VALUE=URI:https://triangleonthecheap.com/event/one-tribe/
DTSTAMP:20260423T104746
UID:69ea31122bd35
END:VEVENT
END:VCALENDAR