BEGIN:VCALENDAR
VERSION:2.0
PRODID:-//hacksw/handcal//NONSGML v1.0//EN
CALSCALE:GREGORIAN
BEGIN:VEVENT
LOCATION:Historic Downtown Smithfield\, 3rd Street and Market Street\, Smithfield\, NC
DESCRIPTION:https://triangleonthecheap.com/event/smithfield-ham-yam-festival/
DTSTART;TZID=America/New_York:20260502T090000
DTEND;TZID=America/New_York:20260502T210000
SUMMARY:Smithfield Ham & Yam Festival
URL;VALUE=URI:https://triangleonthecheap.com/event/smithfield-ham-yam-festival/
DTSTAMP:20260420T073331
UID:69e60f0ba3a04
END:VEVENT
END:VCALENDAR