BEGIN:VCALENDAR
VERSION:2.0
PRODID:-//hacksw/handcal//NONSGML v1.0//EN
CALSCALE:GREGORIAN
BEGIN:VEVENT
LOCATION:Old North Durham Park\, 310 W Geer Street\, Durham\, NC
DESCRIPTION:https://triangleonthecheap.com/event/strawberry-festival-durham/
DTSTART;TZID=America/New_York:20260502T110000
DTEND;TZID=America/New_York:20260502T150000
SUMMARY:Central Park School for Children's Strawberry Festival
URL;VALUE=URI:https://triangleonthecheap.com/event/strawberry-festival-durham/
DTSTAMP:20260420T085824
UID:69e622f07fec2
END:VEVENT
END:VCALENDAR