BEGIN:VCALENDAR
VERSION:2.0
PRODID:-//hacksw/handcal//NONSGML v1.0//EN
CALSCALE:GREGORIAN
BEGIN:VEVENT
LOCATION:Fred G. Bond Metro Park\, 801 High House Rd\, Cary\, NC
DESCRIPTION:https://triangleonthecheap.com/event/carys-spring-daze-arts-crafts-festival/
DTSTART;TZID=America/New_York:20260425T090000
DTEND;TZID=America/New_York:20260425T170000
SUMMARY:Cary's Spring Daze Arts and Crafts Festival
URL;VALUE=URI:https://triangleonthecheap.com/event/carys-spring-daze-arts-crafts-festival/
DTSTAMP:20260423T131249
UID:69ea531130da6
END:VEVENT
END:VCALENDAR